BEGIN:VCALENDAR
VERSION:2.0
PRODID:-//jEvents 2.0 for Joomla//EN
CALSCALE:GREGORIAN
METHOD:PUBLISH
BEGIN:VEVENT
UID:9ba59c41dabefa18d8dcdf829d9dd4a4
CATEGORIES:鋼琴借用申請
CREATED:20201009T171413
SUMMARY:呂逸婷
DESCRIPTION;ENCODING=QUOTED-PRINTABLE:
CONTACT:呂逸婷
DTSTAMP:20260420T115013Z
DTSTART;TZID=Asia/Taipei:20201128T140000
DTEND;TZID=Asia/Taipei:20201128T170000
SEQUENCE:0
TRANSP:OPAQUE
END:VEVENT
END:VCALENDAR