BEGIN:VCALENDAR
VERSION:2.0
PRODID:-//jEvents 2.0 for Joomla//EN
CALSCALE:GREGORIAN
METHOD:PUBLISH
BEGIN:VEVENT
UID:5c8e4b9282093c2d7d78eb4ccd2d6931
CATEGORIES:鋼琴借用申請
CREATED:20210114T214704
SUMMARY:呂逸婷
LOCATION:二樓大堂
DESCRIPTION;ENCODING=QUOTED-PRINTABLE:
CONTACT:呂逸婷
DTSTAMP:20260420T090556Z
DTSTART;TZID=Asia/Taipei:20210116T143000
DTEND;TZID=Asia/Taipei:20210116T163000
SEQUENCE:0
TRANSP:OPAQUE
END:VEVENT
END:VCALENDAR