BEGIN:VCALENDAR
VERSION:2.0
PRODID:-//jEvents 2.0 for Joomla//EN
CALSCALE:GREGORIAN
METHOD:PUBLISH
BEGIN:VEVENT
UID:9ea27d940e046f3ee360e5996744ea34
CATEGORIES:鋼琴借用申請
CREATED:20201219T083650
SUMMARY:跨年禱告會敬拜練習
DESCRIPTION;ENCODING=QUOTED-PRINTABLE:
CONTACT:0921287532
DTSTAMP:20260420T104116Z
DTSTART;TZID=Asia/Taipei:20201220T130000
DTEND;TZID=Asia/Taipei:20201220T140000
SEQUENCE:0
TRANSP:OPAQUE
END:VEVENT
END:VCALENDAR