BEGIN:VCALENDAR
VERSION:2.0
PRODID:-//jEvents 2.0 for Joomla//EN
CALSCALE:GREGORIAN
METHOD:PUBLISH
BEGIN:VEVENT
UID:467c59b841fbf1e2f6690ab342c90f93
CATEGORIES:鋼琴借用申請
CREATED:20201215T181235
SUMMARY:主恩敬拜團練
LOCATION:二樓大堂
DESCRIPTION;ENCODING=QUOTED-PRINTABLE:\n\n主恩敬拜團練\n
CONTACT:陳海燕
X-EXTRAINFO:海燕敬拜團練
DTSTAMP:20260420T104615Z
DTSTART;TZID=Asia/Taipei:20201230T193000
DTEND;TZID=Asia/Taipei:20201230T210000
SEQUENCE:0
TRANSP:OPAQUE
END:VEVENT
END:VCALENDAR