BEGIN:VCALENDAR
VERSION:2.0
PRODID:-//jEvents 2.0 for Joomla//EN
CALSCALE:GREGORIAN
METHOD:PUBLISH
BEGIN:VEVENT
UID:17e42e486ff929130d78551aa20e3ffe
CATEGORIES:鋼琴借用申請
CREATED:20201129T095914
SUMMARY:禱告會敬拜練習
DESCRIPTION;ENCODING=QUOTED-PRINTABLE:
CONTACT:0921287532
DTSTAMP:20260420T115024Z
DTSTART;TZID=Asia/Taipei:20201129T143000
DTEND;TZID=Asia/Taipei:20201129T170000
SEQUENCE:0
TRANSP:OPAQUE
END:VEVENT
END:VCALENDAR