BEGIN:VCALENDAR
VERSION:2.0
PRODID:-//jEvents 2.0 for Joomla//EN
CALSCALE:GREGORIAN
METHOD:PUBLISH
BEGIN:VEVENT
UID:b29c1cf2caa59c7648b0a47a52dc8633
CATEGORIES:鋼琴借用申請
CREATED:20201111T220217
SUMMARY:二樓
DESCRIPTION;ENCODING=QUOTED-PRINTABLE:
CONTACT:金美香
DTSTAMP:20260420T114847Z
DTSTART;TZID=Asia/Taipei:20201121T183000
DTEND;TZID=Asia/Taipei:20201121T200000
SEQUENCE:0
TRANSP:OPAQUE
END:VEVENT
END:VCALENDAR