BEGIN:VCALENDAR
VERSION:2.0
PRODID:-//jEvents 2.0 for Joomla//EN
CALSCALE:GREGORIAN
METHOD:PUBLISH
BEGIN:VEVENT
UID:9a2e0fef4fab75753f3e0c8075621d38
CATEGORIES:鋼琴借用申請
CREATED:20201108T142813
SUMMARY:敬拜練習
DESCRIPTION;ENCODING=QUOTED-PRINTABLE:
CONTACT:沈庭葳 0921287532
DTSTAMP:20260420T125306Z
DTSTART;TZID=Asia/Taipei:20201108T160000
DTEND;TZID=Asia/Taipei:20201108T180000
SEQUENCE:0
TRANSP:OPAQUE
END:VEVENT
END:VCALENDAR