BEGIN:VCALENDAR
VERSION:2.0
PRODID:-//jEvents 2.0 for Joomla//EN
CALSCALE:GREGORIAN
METHOD:PUBLISH
BEGIN:VEVENT
UID:76749fd1c8e6146c989fe85a81e8debd
CATEGORIES:鋼琴借用申請
CREATED:20201014T172610
SUMMARY:二樓
DESCRIPTION;ENCODING=QUOTED-PRINTABLE:
CONTACT:金美香
DTSTAMP:20260420T131513Z
DTSTART;TZID=Asia/Taipei:20201024T193000
DTEND;TZID=Asia/Taipei:20201024T210000
SEQUENCE:0
TRANSP:OPAQUE
END:VEVENT
END:VCALENDAR