BEGIN:VCALENDAR
VERSION:2.0
PRODID:-//jEvents 2.0 for Joomla//EN
CALSCALE:GREGORIAN
METHOD:PUBLISH
BEGIN:VEVENT
UID:b5cf32b142e093959e60ad01dfaa3858
CATEGORIES:鋼琴借用申請
CREATED:20200910T210344
SUMMARY:金美香
DESCRIPTION;ENCODING=QUOTED-PRINTABLE:
CONTACT:0952390435
DTSTAMP:20260420T145447Z
DTSTART;TZID=Asia/Taipei:20200926T193000
DTEND;TZID=Asia/Taipei:20200926T210000
SEQUENCE:0
TRANSP:OPAQUE
END:VEVENT
END:VCALENDAR