BEGIN:VCALENDAR
VERSION:2.0
PRODID:-//jEvents 2.0 for Joomla//EN
CALSCALE:GREGORIAN
METHOD:PUBLISH
BEGIN:VEVENT
UID:618ed2b328ebd8c07e4eb8cd08879e81
CATEGORIES:鋼琴借用申請
CREATED:19700101T080000
SUMMARY:敬拜團練
LOCATION:二樓大堂
DESCRIPTION;ENCODING=QUOTED-PRINTABLE:
CONTACT:呂逸婷
DTSTAMP:20260420T144610Z
DTSTART;TZID=Asia/Taipei:20200905T140000
DTEND;TZID=Asia/Taipei:20200905T170000
SEQUENCE:0
RRULE:FREQ=WEEKLY;COUNT=4;INTERVAL=1;BYDAY=SA
TRANSP:OPAQUE
END:VEVENT
END:VCALENDAR