BEGIN:VCALENDAR
VERSION:2.0
PRODID:-//jEvents 2.0 for Joomla//EN
CALSCALE:GREGORIAN
METHOD:PUBLISH
BEGIN:VEVENT
UID:d9d9d11854cc8036db486ca88cb7920f
CATEGORIES:鋼琴借用申請
CREATED:20200819T165650
SUMMARY:二樓
DESCRIPTION;ENCODING=QUOTED-PRINTABLE:
CONTACT:金美香
DTSTAMP:20260420T161840Z
DTSTART;TZID=Asia/Taipei:20200826T193000
DTEND;TZID=Asia/Taipei:20200826T210000
SEQUENCE:0
TRANSP:OPAQUE
END:VEVENT
END:VCALENDAR