BEGIN:VCALENDAR
VERSION:2.0
PRODID:-//jEvents 2.0 for Joomla//EN
CALSCALE:GREGORIAN
METHOD:PUBLISH
BEGIN:VEVENT
UID:f8d8d72b01cc246c6c9767a483cc1ffd
CATEGORIES:鋼琴借用申請
CREATED:20200817T194237
SUMMARY:敬拜團練
LOCATION:東華浸信會
DESCRIPTION;ENCODING=QUOTED-PRINTABLE:
CONTACT:陳海燕
DTSTAMP:20260420T175902Z
DTSTART;TZID=Asia/Taipei:20200821T193000
DTEND;TZID=Asia/Taipei:20200821T210000
SEQUENCE:0
TRANSP:OPAQUE
END:VEVENT
END:VCALENDAR