BEGIN:VCALENDAR
VERSION:2.0
PRODID:-//jEvents 2.0 for Joomla//EN
CALSCALE:GREGORIAN
METHOD:PUBLISH
BEGIN:VEVENT
UID:8a879b7fe90029e4af5594c5b1ef86f1
CATEGORIES:鋼琴借用申請
CREATED:20200816T114516
SUMMARY:二樓，金美香
DESCRIPTION;ENCODING=QUOTED-PRINTABLE:
CONTACT:金美香
DTSTAMP:20260420T161938Z
DTSTART;TZID=Asia/Taipei:20200816T190000
DTEND;TZID=Asia/Taipei:20200816T210000
SEQUENCE:0
TRANSP:OPAQUE
END:VEVENT
END:VCALENDAR