BEGIN:VCALENDAR
VERSION:2.0
PRODID:-//jEvents 2.0 for Joomla//EN
CALSCALE:GREGORIAN
METHOD:PUBLISH
BEGIN:VEVENT
UID:142e3f94d5de15e2ee39fa55a8aa3276
CATEGORIES:鋼琴借用申請
CREATED:20200718T084019
SUMMARY:二樓鋼琴
LOCATION:二樓鋼琴
DESCRIPTION;ENCODING=QUOTED-PRINTABLE:
CONTACT:高梅菊
DTSTAMP:20260420T192046Z
DTSTART;TZID=Asia/Taipei:20200725T083000
DTEND;TZID=Asia/Taipei:20200725T103000
SEQUENCE:0
TRANSP:OPAQUE
END:VEVENT
END:VCALENDAR