BEGIN:VCALENDAR
VERSION:2.0
PRODID:-//jEvents 2.0 for Joomla//EN
CALSCALE:GREGORIAN
METHOD:PUBLISH
BEGIN:VEVENT
UID:0f100f6d26e686271cc8842a8694f00e
CATEGORIES:鋼琴借用申請
CREATED:20200714T162635
SUMMARY:二樓大堂
DESCRIPTION;ENCODING=QUOTED-PRINTABLE:
CONTACT:黃曼萍 (江佩玲)
DTSTAMP:20260420T145228Z
DTSTART;TZID=Asia/Taipei:20200927T183000
DTEND;TZID=Asia/Taipei:20200927T203000
SEQUENCE:0
TRANSP:OPAQUE
END:VEVENT
END:VCALENDAR