BEGIN:VCALENDAR
VERSION:2.0
PRODID:-//jEvents 2.0 for Joomla//EN
CALSCALE:GREGORIAN
METHOD:PUBLISH
BEGIN:VEVENT
UID:536db876c6d72ed651181666ba896174
CATEGORIES:鋼琴借用申請
CREATED:20200714T161835
SUMMARY:二樓大堂
DESCRIPTION;ENCODING=QUOTED-PRINTABLE:
CONTACT:蔡宛芳
DTSTAMP:20260420T115019Z
DTSTART;TZID=Asia/Taipei:20201118T190000
DTEND;TZID=Asia/Taipei:20201118T210000
SEQUENCE:0
TRANSP:OPAQUE
END:VEVENT
END:VCALENDAR