BEGIN:VCALENDAR
VERSION:2.0
PRODID:-//jEvents 2.0 for Joomla//EN
CALSCALE:GREGORIAN
METHOD:PUBLISH
BEGIN:VEVENT
UID:065636c4ac7c07d10bf163f4b0c3fc17
CATEGORIES:鋼琴借用申請
CREATED:20200714T161450
SUMMARY:二樓大堂
DESCRIPTION;ENCODING=QUOTED-PRINTABLE:
CONTACT:蔡宛芳
DTSTAMP:20260420T175528Z
DTSTART;TZID=Asia/Taipei:20200805T190000
DTEND;TZID=Asia/Taipei:20200805T210000
SEQUENCE:0
TRANSP:OPAQUE
END:VEVENT
END:VCALENDAR