BEGIN:VCALENDAR
VERSION:2.0
PRODID:-//jEvents 2.0 for Joomla//EN
CALSCALE:GREGORIAN
METHOD:PUBLISH
BEGIN:VEVENT
UID:19d4c4569f11dbc9184a06cbb9f6309f
CATEGORIES:鋼琴借用申請
CREATED:20200714T161252
SUMMARY:二樓大堂
DESCRIPTION;ENCODING=QUOTED-PRINTABLE:
CONTACT:呂逸婷
DTSTAMP:20260420T175400Z
DTSTART;TZID=Asia/Taipei:20200718T140000
DTEND;TZID=Asia/Taipei:20200718T170000
SEQUENCE:0
TRANSP:OPAQUE
END:VEVENT
END:VCALENDAR