BEGIN:VCALENDAR
VERSION:2.0
PRODID:-//jEvents 2.0 for Joomla//EN
CALSCALE:GREGORIAN
METHOD:PUBLISH
BEGIN:VEVENT
UID:564ceb3a00f48eac89ab76339dc0b564
CATEGORIES:鋼琴借用申請
CREATED:20200714T135832
SUMMARY:二樓鋼琴
DESCRIPTION;ENCODING=QUOTED-PRINTABLE:
CONTACT:陳海燕
DTSTAMP:20260420T192214Z
DTSTART;TZID=Asia/Taipei:20200715T193000
DTEND;TZID=Asia/Taipei:20200715T210000
SEQUENCE:0
TRANSP:OPAQUE
END:VEVENT
END:VCALENDAR