BEGIN:VCALENDAR
VERSION:2.0
PRODID:-//jEvents 2.0 for Joomla//EN
CALSCALE:GREGORIAN
METHOD:PUBLISH
BEGIN:VEVENT
UID:1895c9934dfe2b7c7f9c9001b121064b
CATEGORIES:鋼琴借用申請
CREATED:20260421T210305
SUMMARY:遇見神營會敬拜練習
LOCATION:兩樓會堂
DESCRIPTION;ENCODING=QUOTED-PRINTABLE:
CONTACT:林雯馨
DTSTAMP:20260422T043105Z
DTSTART;TZID=Asia/Taipei:20260424T210000
DTEND;TZID=Asia/Taipei:20260424T220000
SEQUENCE:0
TRANSP:OPAQUE
END:VEVENT
END:VCALENDAR